BEGIN:VCALENDAR
VERSION:2.0
PRODID:gruene-keh.de
METHOD:PUBLISH
BEGIN:VTIMEZONE
TZID:Europe/Berlin
X-LIC-LOCATION:Europe/Berlin
BEGIN:DAYLIGHT
TZOFFSETFROM:+0100
TZOFFSETTO:+0200
TZNAME:CEST
DTSTART:19700329T020000
RRULE:FREQ=YEARLY;INTERVAL=1;BYDAY=-1SU;BYMONTH=3
END:DAYLIGHT
BEGIN:STANDARD
TZOFFSETFROM:+0200
TZOFFSETTO:+0100
TZNAME:CET
DTSTART:19701025T030000
RRULE:FREQ=YEARLY;INTERVAL=1;BYDAY=-1SU;BYMONTH=10
END:STANDARD
END:VTIMEZONE
BEGIN:VEVENT
UID:17062a32e8aff4d7384d3a32d9ebe8c6@gruene-keh.de
URL;VALUE=URI:https://gruene-keh.de/termine/csd-kelheim/
LOCATION:
SUMMARY:CSD Kelheim
DESCRIPTION;ALTREP="data:text/html,":
CLASS:PUBLIC
DTSTART;TZID=Europe/Berlin:20240601
DTEND;TZID=Europe/Berlin:20240601
DTSTAMP:20260419T175154
END:VEVENT
END:VCALENDAR