BEGIN:VCALENDAR
VERSION:2.0
PRODID:gruene-keh.de
METHOD:PUBLISH
BEGIN:VTIMEZONE
TZID:Europe/Berlin
X-LIC-LOCATION:Europe/Berlin
BEGIN:DAYLIGHT
TZOFFSETFROM:+0100
TZOFFSETTO:+0200
TZNAME:CEST
DTSTART:19700329T020000
RRULE:FREQ=YEARLY;INTERVAL=1;BYDAY=-1SU;BYMONTH=3
END:DAYLIGHT
BEGIN:STANDARD
TZOFFSETFROM:+0200
TZOFFSETTO:+0100
TZNAME:CET
DTSTART:19701025T030000
RRULE:FREQ=YEARLY;INTERVAL=1;BYDAY=-1SU;BYMONTH=10
END:STANDARD
END:VTIMEZONE
BEGIN:VEVENT
UID:c42c53b9e86799cce4c44fc0d5ec8f27@gruene-keh.de
URL;VALUE=URI:https://gruene-keh.de/termine/kreisversammlung-5/
LOCATION:Gasthof Weißes Lamm, Ludwigstraße 12, Kelheim
SUMMARY:Kreisversammlung
DESCRIPTION;ALTREP="data:text/html,%0A%3Cp%3E%3Cstrong%3EEinladung%3C%2Fs
 trong%3E%20als%20%3Ca%20href%3D%22https%3A%2F%2Fgruene-keh.de%2Fwp-conten
 t%2Fuploads%2F2024%2F09%2FKV_20240906.pdf%22%20data-type%3D%22link%22%20d
 ata-id%3D%22https%3A%2F%2Fgruene-keh.de%2Fwp-content%2Fuploads%2F2024%2F0
 9%2FKV_20240906.pdf%22%3EPDF-Datei%20%3C%2Fa%3E%28375%20KB%29%3C%2Fp%3E%0
 A":Einladung als PDF-Datei (375 KB)
CLASS:PUBLIC
DTSTART;TZID=Europe/Berlin:20240906T193000
DTEND;TZID=Europe/Berlin:20240906T203000
DTSTAMP:20260423T194358
END:VEVENT
END:VCALENDAR