BEGIN:VCALENDAR
VERSION:2.0
PRODID:gruene-keh.de
METHOD:PUBLISH
BEGIN:VTIMEZONE
TZID:Europe/Berlin
X-LIC-LOCATION:Europe/Berlin
BEGIN:DAYLIGHT
TZOFFSETFROM:+0100
TZOFFSETTO:+0200
TZNAME:CEST
DTSTART:19700329T020000
RRULE:FREQ=YEARLY;INTERVAL=1;BYDAY=-1SU;BYMONTH=3
END:DAYLIGHT
BEGIN:STANDARD
TZOFFSETFROM:+0200
TZOFFSETTO:+0100
TZNAME:CET
DTSTART:19701025T030000
RRULE:FREQ=YEARLY;INTERVAL=1;BYDAY=-1SU;BYMONTH=10
END:STANDARD
END:VTIMEZONE
BEGIN:VEVENT
UID:2963be3f16c7a501273c3f375aaa4877@gruene-keh.de
URL;VALUE=URI:https://gruene-keh.de/termine/wirtshausgespraech-in-mainbur
 g/
LOCATION:Rubaks, Ebrantshauser Straße 71, 84048 Mainburg
SUMMARY:Wirtshausgespräch in Mainburg
DESCRIPTION;ALTREP="data:text/html,":
CLASS:PUBLIC
DTSTART;TZID=Europe/Berlin:20250207T190000
DTEND;TZID=Europe/Berlin:20250207T200000
DTSTAMP:20260420T033000
END:VEVENT
END:VCALENDAR